Package: MicrobiomeBenchmarkData Version: 1.13.0 Command: /home/biocbuild/bbs-3.23-bioc/R/bin/R CMD check --install=check:MicrobiomeBenchmarkData.install-out.txt --library=/home/biocbuild/bbs-3.23-bioc/R/site-library --timings MicrobiomeBenchmarkData_1.13.0.tar.gz StartedAt: 2025-11-06 12:37:15 -0500 (Thu, 06 Nov 2025) EndedAt: 2025-11-06 12:42:25 -0500 (Thu, 06 Nov 2025) EllapsedTime: 309.9 seconds RetCode: 0 Status: OK CheckDir: MicrobiomeBenchmarkData.Rcheck Warnings: 0