Package: MethylSeqData Version: 1.21.0 Maintainer: Peter Hickey MaintainerEmail: peter.hickey at gmail.com git_url: https://git.bioconductor.org/packages/MethylSeqData git_branch: devel git_last_commit: 7f8e7ed git_last_commit_date: 2025-10-29 10:02:55 -0500 (Wed, 29 Oct 2025)