Package: MethylAidData Version: 1.43.0 Maintainer: M. van Iterson MaintainerEmail: mviterson at gmail.com git_url: https://git.bioconductor.org/packages/MethylAidData git_branch: devel git_last_commit: 1bf3996 git_last_commit_date: 2025-10-29 09:56:19 -0500 (Wed, 29 Oct 2025)