Package: MetaScope Version: 1.99.10 Command: /home/biocbuild/bbs-3.23-bioc/R/bin/R CMD check --install=check:MetaScope.install-out.txt --library=/home/biocbuild/bbs-3.23-bioc/R/site-library --timings MetaScope_1.99.10.tar.gz StartedAt: 2025-11-20 12:48:09 -0500 (Thu, 20 Nov 2025) EndedAt: 2025-11-20 13:23:02 -0500 (Thu, 20 Nov 2025) EllapsedTime: 2093.6 seconds RetCode: 0 Status: WARNINGS CheckDir: MetaScope.Rcheck Warnings: 1