Package: MetaGxPancreas Version: 1.31.0 Maintainer: Benjamin Haibe-Kains MaintainerEmail: benjamin.haibe.kains at utoronto.ca git_url: https://git.bioconductor.org/packages/MetaGxPancreas git_branch: devel git_last_commit: c90980a git_last_commit_date: 2025-10-29 10:00:15 -0500 (Wed, 29 Oct 2025)