Package: MetaGxOvarian Version: 1.31.0 Maintainer: Benjamin Haibe-Kains MaintainerEmail: benjamin.haibe.kains at utoronto.ca git_url: https://git.bioconductor.org/packages/MetaGxOvarian git_branch: devel git_last_commit: cb1e854 git_last_commit_date: 2025-10-29 10:00:00 -0500 (Wed, 29 Oct 2025)