Package: MetaGxBreast Version: 1.31.0 Maintainer: Benjamin Haibe-Kains MaintainerEmail: benjamin.haibe.kains at utoronto.ca git_url: https://git.bioconductor.org/packages/MetaGxBreast git_branch: devel git_last_commit: e909c99 git_last_commit_date: 2025-10-29 10:00:03 -0500 (Wed, 29 Oct 2025)