Package: MSMB Version: 1.29.0 Command: /home/biocbuild/bbs-3.23-bioc/R/bin/R CMD build --keep-empty-dirs --no-resave-data MSMB StartedAt: 2025-11-06 11:31:33 -0500 (Thu, 06 Nov 2025) EndedAt: 2025-11-06 11:31:41 -0500 (Thu, 06 Nov 2025) EllapsedTime: 7.3 seconds RetCode: 0 Status: OK PackageFile: MSMB_1.29.0.tar.gz PackageFileSize: 5.05 MiB