Package: MSMB Version: 1.29.0 Maintainer: Wolfgang Huber MaintainerEmail: wolfgang.huber at embl.org git_url: https://git.bioconductor.org/packages/MSMB git_branch: devel git_last_commit: 838367e git_last_commit_date: 2025-10-29 10:00:19 -0500 (Wed, 29 Oct 2025)