Package: MEEBOdata Version: 1.49.0 Command: /home/biocbuild/bbs-3.23-bioc/R/bin/R CMD build --keep-empty-dirs --no-resave-data MEEBOdata StartedAt: 2025-11-06 11:28:54 -0500 (Thu, 06 Nov 2025) EndedAt: 2025-11-06 11:28:58 -0500 (Thu, 06 Nov 2025) EllapsedTime: 3.9 seconds RetCode: 0 Status: OK PackageFile: MEEBOdata_1.49.0.tar.gz PackageFileSize: 6.869 MiB