Package: MEDIPSData Version: 1.47.0 Maintainer: Lukas Chavez MaintainerEmail: lchavez at liai.org git_url: https://git.bioconductor.org/packages/MEDIPSData git_branch: devel git_last_commit: 5388692 git_last_commit_date: 2025-10-29 09:33:21 -0500 (Wed, 29 Oct 2025)