Package: MAQCsubset Version: 1.49.0 Command: /home/biocbuild/bbs-3.23-bioc/R/bin/R CMD INSTALL MAQCsubset StartedAt: 2025-11-06 11:03:04 -0500 (Thu, 06 Nov 2025) EndedAt: 2025-11-06 11:03:59 -0500 (Thu, 06 Nov 2025) EllapsedTime: 54.9 seconds RetCode: 0 Status: OK