Package: MAQCsubset Version: 1.49.0 Maintainer: VJ Carey MaintainerEmail: stvjc at channing.harvard.edu git_url: https://git.bioconductor.org/packages/MAQCsubset git_branch: devel git_last_commit: e617b52 git_last_commit_date: 2025-10-29 09:30:27 -0500 (Wed, 29 Oct 2025)