Package: MACSdata Version: 1.19.0 Maintainer: Qiang Hu MaintainerEmail: Qiang.Hu at roswellpark.org git_url: https://git.bioconductor.org/packages/MACSdata git_branch: devel git_last_commit: 771d018 git_last_commit_date: 2025-10-29 10:03:20 -0500 (Wed, 29 Oct 2025)