Package: LungCancerLines Version: 0.49.0 Maintainer: Michael Lawrence MaintainerEmail: michafla at gene.com git_url: https://git.bioconductor.org/packages/LungCancerLines git_branch: devel git_last_commit: a35855f git_last_commit_date: 2025-10-29 09:33:38 -0500 (Wed, 29 Oct 2025)