Package: ListerEtAlBSseq Version: 1.43.0 Maintainer: Mattia Furlan MaintainerEmail: mattia.furlan at iit.it git_url: https://git.bioconductor.org/packages/ListerEtAlBSseq git_branch: devel git_last_commit: 2f0c547 git_last_commit_date: 2025-10-29 09:55:41 -0500 (Wed, 29 Oct 2025)