Package: LiebermanAidenHiC2009 Version: 0.49.0 Command: /home/biocbuild/bbs-3.23-bioc/R/bin/R CMD INSTALL LiebermanAidenHiC2009 StartedAt: 2025-11-06 10:56:39 -0500 (Thu, 06 Nov 2025) EndedAt: 2025-11-06 10:56:44 -0500 (Thu, 06 Nov 2025) EllapsedTime: 5.5 seconds RetCode: 0 Status: OK