Package: LiebermanAidenHiC2009 Version: 0.49.0 Command: /home/biocbuild/bbs-3.23-bioc/R/bin/R CMD build --keep-empty-dirs --no-resave-data LiebermanAidenHiC2009 StartedAt: 2025-11-06 11:26:40 -0500 (Thu, 06 Nov 2025) EndedAt: 2025-11-06 11:27:49 -0500 (Thu, 06 Nov 2025) EllapsedTime: 69.5 seconds RetCode: 0 Status: OK PackageFile: LiebermanAidenHiC2009_0.49.0.tar.gz PackageFileSize: 10.38 MiB