Package: LiebermanAidenHiC2009 Version: 0.49.0 Maintainer: Felix Klein MaintainerEmail: fklein at embl.de git_url: https://git.bioconductor.org/packages/LiebermanAidenHiC2009 git_branch: devel git_last_commit: 7144525 git_last_commit_date: 2025-10-29 09:32:34 -0500 (Wed, 29 Oct 2025)