Package: LegATo Version: 1.5.0 Maintainer: Aubrey Odom MaintainerEmail: aodom at bu.edu git_url: https://git.bioconductor.org/packages/LegATo git_branch: devel git_last_commit: e6be75b git_last_commit_date: 2025-10-29 10:06:39 -0500 (Wed, 29 Oct 2025)