Package: KOdata Version: 1.37.0 Command: /home/biocbuild/bbs-3.23-bioc/R/bin/R CMD INSTALL KOdata StartedAt: 2025-11-13 10:55:18 -0500 (Thu, 13 Nov 2025) EndedAt: 2025-11-13 10:55:38 -0500 (Thu, 13 Nov 2025) EllapsedTime: 19.7 seconds RetCode: 0 Status: OK