Package: KEGGdzPathwaysGEO Version: 1.49.0 Maintainer: Gaurav Bhatti MaintainerEmail: gbhatti at med.wayne.edu git_url: https://git.bioconductor.org/packages/KEGGdzPathwaysGEO git_branch: devel git_last_commit: 19d5122 git_last_commit_date: 2025-10-29 09:33:26 -0500 (Wed, 29 Oct 2025)