Package: KEGGandMetacoreDzPathwaysGEO Version: 1.31.0 Maintainer: Gaurav Bhatti MaintainerEmail: gbhatti at med.wayne.edu git_url: https://git.bioconductor.org/packages/KEGGandMetacoreDzPathwaysGEO git_branch: devel git_last_commit: 2339475 git_last_commit_date: 2025-10-29 09:55:07 -0500 (Wed, 29 Oct 2025)