Package: JohnsonKinaseData Version: 1.7.0 Maintainer: Florian Geier MaintainerEmail: florian.geier at unibas.ch git_url: https://git.bioconductor.org/packages/JohnsonKinaseData git_branch: devel git_last_commit: cd968b0 git_last_commit_date: 2025-10-29 10:06:29 -0500 (Wed, 29 Oct 2025)