Package: Iyer517 Version: 1.53.0 Command: /home/biocbuild/bbs-3.23-bioc/R/bin/R CMD INSTALL Iyer517 StartedAt: 2025-11-06 10:56:03 -0500 (Thu, 06 Nov 2025) EndedAt: 2025-11-06 10:56:08 -0500 (Thu, 06 Nov 2025) EllapsedTime: 4.5 seconds RetCode: 0 Status: OK