Package: IlluminaDataTestFiles Version: 1.49.0 Maintainer: Kasper Daniel Hansen MaintainerEmail: khansen at jhsph.edu git_url: https://git.bioconductor.org/packages/IlluminaDataTestFiles git_branch: devel git_last_commit: 82be2b6 git_last_commit_date: 2025-10-29 09:53:45 -0500 (Wed, 29 Oct 2025)