Package: Illumina450ProbeVariants.db Version: 1.47.0 Command: /home/biocbuild/bbs-3.23-bioc/R/bin/R CMD build --keep-empty-dirs --no-resave-data Illumina450ProbeVariants.db StartedAt: 2025-11-06 11:25:09 -0500 (Thu, 06 Nov 2025) EndedAt: 2025-11-06 11:25:12 -0500 (Thu, 06 Nov 2025) EllapsedTime: 3.0 seconds RetCode: 0 Status: OK PackageFile: Illumina450ProbeVariants.db_1.47.0.tar.gz PackageFileSize: 6.414 MiB