Package: IHWpaper Version: 1.39.0 Command: /home/biocbuild/bbs-3.23-bioc/R/bin/R CMD INSTALL IHWpaper StartedAt: 2025-11-06 11:02:36 -0500 (Thu, 06 Nov 2025) EndedAt: 2025-11-06 11:03:13 -0500 (Thu, 06 Nov 2025) EllapsedTime: 36.3 seconds RetCode: 0 Status: OK