Package: IHWpaper Version: 1.39.0 Command: /home/biocbuild/bbs-3.23-bioc/R/bin/R CMD build --keep-empty-dirs --no-resave-data IHWpaper StartedAt: 2025-11-06 11:25:06 -0500 (Thu, 06 Nov 2025) EndedAt: 2025-11-06 11:28:39 -0500 (Thu, 06 Nov 2025) EllapsedTime: 213.2 seconds RetCode: 0 Status: OK PackageFile: IHWpaper_1.39.0.tar.gz PackageFileSize: 75.42 MiB