Package: HumanAffyData Version: 1.37.0 Maintainer: Brad Nelms MaintainerEmail: bnelms.research at gmail.com git_url: https://git.bioconductor.org/packages/HumanAffyData git_branch: devel git_last_commit: 1dc982b git_last_commit_date: 2025-10-29 09:58:57 -0500 (Wed, 29 Oct 2025)