Package: Hiiragi2013 Version: 1.47.0 Maintainer: Wolfgang Huber MaintainerEmail: wolfgang.huber at embl.org git_url: https://git.bioconductor.org/packages/Hiiragi2013 git_branch: devel git_last_commit: 2c0b845 git_last_commit_date: 2025-10-29 09:53:11 -0500 (Wed, 29 Oct 2025)