Package: HighlyReplicatedRNASeq Version: 1.23.0 Maintainer: Constantin Ahlmann-Eltze MaintainerEmail: artjom31415 at googlemail.com git_url: https://git.bioconductor.org/packages/HighlyReplicatedRNASeq git_branch: devel git_last_commit: cc0c8b9 git_last_commit_date: 2025-10-29 10:02:20 -0500 (Wed, 29 Oct 2025)