############################################################################## ############################################################################## ### ### Running command: ### ### /home/biocbuild/bbs-3.23-bioc/R/bin/R CMD build --keep-empty-dirs --no-resave-data HiCDataLymphoblast ### ############################################################################## ############################################################################## * checking for file ‘HiCDataLymphoblast/DESCRIPTION’ ... OK * preparing ‘HiCDataLymphoblast’: * checking DESCRIPTION meta-information ... OK * installing the package (it is needed to build vignettes) * creating vignettes ... OK * checking for LF line-endings in source and make files and shell scripts * checking for empty or unneeded directories * building ‘HiCDataLymphoblast_1.47.0.tar.gz’