Package: HiCDataLymphoblast Version: 1.47.0 Maintainer: Borbala Mifsud MaintainerEmail: b.mifsud at qmul.ac.uk git_url: https://git.bioconductor.org/packages/HiCDataLymphoblast git_branch: devel git_last_commit: 9eba266 git_last_commit_date: 2025-10-29 09:54:29 -0500 (Wed, 29 Oct 2025)