Package: HiCDataHumanIMR90 Version: 1.31.0 Maintainer: Nicolas Servant MaintainerEmail: Nicolas.Servant at curie.fr git_url: https://git.bioconductor.org/packages/HiCDataHumanIMR90 git_branch: devel git_last_commit: b03f8a8 git_last_commit_date: 2025-10-29 09:55:32 -0500 (Wed, 29 Oct 2025)