Package: HiBED Version: 1.9.0 Command: /home/biocbuild/bbs-3.23-bioc/R/bin/R CMD INSTALL HiBED StartedAt: 2025-11-06 11:03:37 -0500 (Thu, 06 Nov 2025) EndedAt: 2025-11-06 11:04:19 -0500 (Thu, 06 Nov 2025) EllapsedTime: 42.3 seconds RetCode: 0 Status: OK