Package: HarmonizedTCGAData Version: 1.33.0 Maintainer: Tianle Ma MaintainerEmail: tianlema at buffalo.edu git_url: https://git.bioconductor.org/packages/HarmonizedTCGAData git_branch: devel git_last_commit: a85f517 git_last_commit_date: 2025-10-29 09:59:29 -0500 (Wed, 29 Oct 2025)