Package: HarmanData Version: 1.39.0 Maintainer: Jason Ross MaintainerEmail: jason.ross at csiro.au git_url: https://git.bioconductor.org/packages/HarmanData git_branch: devel git_last_commit: bf87e60 git_last_commit_date: 2025-10-29 09:58:23 -0500 (Wed, 29 Oct 2025)