Package: HSMMSingleCell Version: 1.31.0 Maintainer: Cole Trapnell MaintainerEmail: cole at broadinstitute.org git_url: https://git.bioconductor.org/packages/HSMMSingleCell git_branch: devel git_last_commit: 53600e2 git_last_commit_date: 2025-10-29 09:55:02 -0500 (Wed, 29 Oct 2025)