Package: HMP16SData Version: 1.31.0 Maintainer: Lucas schiffer MaintainerEmail: schiffer.lucas at gmail.com git_url: https://git.bioconductor.org/packages/HMP16SData git_branch: devel git_last_commit: dbabb16 git_last_commit_date: 2025-10-29 09:59:37 -0500 (Wed, 29 Oct 2025)