Package: HIVcDNAvantWout03 Version: 1.51.0 Command: /home/biocbuild/bbs-3.23-bioc/R/bin/R CMD INSTALL HIVcDNAvantWout03 StartedAt: 2025-11-06 10:55:10 -0500 (Thu, 06 Nov 2025) EndedAt: 2025-11-06 10:55:12 -0500 (Thu, 06 Nov 2025) EllapsedTime: 1.4 seconds RetCode: 0 Status: OK