Package: HIVcDNAvantWout03 Version: 1.51.0 Maintainer: Chris Fraley MaintainerEmail: fraley at stat.washington.edu git_url: https://git.bioconductor.org/packages/HIVcDNAvantWout03 git_branch: devel git_last_commit: 2a1feff git_last_commit_date: 2025-10-29 09:30:20 -0500 (Wed, 29 Oct 2025)