Package: HEEBOdata Version: 1.49.0 Maintainer: Agnes Paquet MaintainerEmail: apaquet at medsfgh.ucsf.edu git_url: https://git.bioconductor.org/packages/HEEBOdata git_branch: devel git_last_commit: c9299c3 git_last_commit_date: 2025-10-29 09:30:15 -0500 (Wed, 29 Oct 2025)