Package: HDCytoData Version: 1.31.0 Maintainer: Lukas M. Weber MaintainerEmail: lmweb012 at gmail.com git_url: https://git.bioconductor.org/packages/HDCytoData git_branch: devel git_last_commit: 7007c4a git_last_commit_date: 2025-10-29 10:00:11 -0500 (Wed, 29 Oct 2025)