Package: HD2013SGI Version: 1.51.0 Maintainer: Mike Smith MaintainerEmail: mike.smith at embl.de git_url: https://git.bioconductor.org/packages/HD2013SGI git_branch: devel git_last_commit: cf6aec3 git_last_commit_date: 2025-10-29 09:53:07 -0500 (Wed, 29 Oct 2025)