Package: HCATonsilData Version: 1.9.0 Maintainer: Ramon Massoni-Badosa MaintainerEmail: ramonmassoni at gmail.com git_url: https://git.bioconductor.org/packages/HCATonsilData git_branch: devel git_last_commit: 3cdd05d git_last_commit_date: 2025-10-29 10:05:54 -0500 (Wed, 29 Oct 2025)