Package: HCAData Version: 1.27.0 Maintainer: Federico Marini MaintainerEmail: marinif at uni-mainz.de git_url: https://git.bioconductor.org/packages/HCAData git_branch: devel git_last_commit: a3c13de git_last_commit_date: 2025-10-29 10:01:01 -0500 (Wed, 29 Oct 2025)