Package: GenomicDistributionsData Version: 1.19.0 Command: /home/biocbuild/bbs-3.23-bioc/R/bin/R CMD check --install=check:GenomicDistributionsData.install-out.txt --library=/home/biocbuild/bbs-3.23-bioc/R/site-library --timings GenomicDistributionsData_1.19.0.tar.gz StartedAt: 2025-11-11 12:23:17 -0500 (Tue, 11 Nov 2025) EndedAt: 2025-11-11 12:28:02 -0500 (Tue, 11 Nov 2025) EllapsedTime: 285.2 seconds RetCode: 0 Status: OK CheckDir: GenomicDistributionsData.Rcheck Warnings: 0