Package: GWASdata Version: 1.49.0 Maintainer: Stephanie Gogarten MaintainerEmail: sdmorris at uw.edu git_url: https://git.bioconductor.org/packages/GWASdata git_branch: devel git_last_commit: e6e0413 git_last_commit_date: 2025-10-29 09:32:46 -0500 (Wed, 29 Oct 2025)