Package: GSVAdata Version: 1.47.1 Maintainer: Robert Castelo MaintainerEmail: robert.castelo at upf.edu git_url: https://git.bioconductor.org/packages/GSVAdata git_branch: devel git_last_commit: c11ec15 git_last_commit_date: 2025-11-04 11:53:49 -0500 (Tue, 04 Nov 2025)